BEGIN:VCALENDAR
VERSION:2.0
PRODID:-//BNJC - ECPv6.15.20//NONSGML v1.0//EN
CALSCALE:GREGORIAN
METHOD:PUBLISH
X-ORIGINAL-URL:https://dev.workwithgoat.com/bnjc
X-WR-CALDESC:Events for BNJC
REFRESH-INTERVAL;VALUE=DURATION:PT1H
X-Robots-Tag:noindex
X-PUBLISHED-TTL:PT1H
BEGIN:VTIMEZONE
TZID:Europe/London
BEGIN:DAYLIGHT
TZOFFSETFROM:+0000
TZOFFSETTO:+0100
TZNAME:BST
DTSTART:20230326T010000
END:DAYLIGHT
BEGIN:STANDARD
TZOFFSETFROM:+0100
TZOFFSETTO:+0000
TZNAME:GMT
DTSTART:20231029T010000
END:STANDARD
BEGIN:DAYLIGHT
TZOFFSETFROM:+0000
TZOFFSETTO:+0100
TZNAME:BST
DTSTART:20240331T010000
END:DAYLIGHT
BEGIN:STANDARD
TZOFFSETFROM:+0100
TZOFFSETTO:+0000
TZNAME:GMT
DTSTART:20241027T010000
END:STANDARD
BEGIN:DAYLIGHT
TZOFFSETFROM:+0000
TZOFFSETTO:+0100
TZNAME:BST
DTSTART:20250330T010000
END:DAYLIGHT
BEGIN:STANDARD
TZOFFSETFROM:+0100
TZOFFSETTO:+0000
TZNAME:GMT
DTSTART:20251026T010000
END:STANDARD
END:VTIMEZONE
BEGIN:VEVENT
DTSTART;TZID=Europe/London:20240229T190000
DTEND;TZID=Europe/London:20240229T210000
DTSTAMP:20260422T144639
CREATED:20240220T112159Z
LAST-MODIFIED:20240220T112159Z
UID:231271-1709233200-1709240400@dev.workwithgoat.com
SUMMARY:Ulpan: Intermediate
DESCRIPTION:Ulpan classes at the intermediate level are held every Thursday evening from 7 to 9 PM\, featuring a break for refreshments. We enthusiastically invite new students who are at the appropriate level to join our classes. \nMuch of the cost of these sessions is generously subsidised by the WZO\, making them accessible to all. \nTo sign up\, please reach out to Yael Breuer at yael.breuer33@gmail.com.
URL:https://dev.workwithgoat.com/bnjc/event/ulpan-intermediate/
CATEGORIES:Education
ATTACH;FMTTYPE=image/jpeg:https://dev.workwithgoat.com/bnjc/wp-content/uploads/2024/02/Ulpan-2022.jpg
END:VEVENT
BEGIN:VEVENT
DTSTART;TZID=Europe/London:20240321T200000
DTEND;TZID=Europe/London:20240321T220000
DTSTAMP:20260422T144639
CREATED:20231221T111417Z
LAST-MODIFIED:20240321T120931Z
UID:230116-1711051200-1711058400@dev.workwithgoat.com
SUMMARY:I Don't Have Any Jewish Friends
DESCRIPTION:BRIGHTON’S FIRST JEWISH VARIETY SHOW! \nStep into the world of ‘I Don’t Have Any Jewish Friends\,’ a brand new variety show celebrating Yiddishkeit and Jewish talent with a fresh twist! \nPart tradition\, part modern flair\, it’s a showcase of everything from bubbe-approved humour to some delightful mishigas. Get ready to kibbitz\, kvell\, and schmooze the night away with your brand new Jewish friends. \nJewish talent on stage? It’s a simcha waiting to happen!
URL:https://dev.workwithgoat.com/bnjc/event/i-dont-have-any-jewish-friends-2/
CATEGORIES:Entertainment,Social
ATTACH;FMTTYPE=image/png:https://dev.workwithgoat.com/bnjc/wp-content/uploads/2023/12/3.png
END:VEVENT
END:VCALENDAR