BEGIN:VCALENDAR
VERSION:2.0
PRODID:-//BNJC - ECPv6.15.20//NONSGML v1.0//EN
CALSCALE:GREGORIAN
METHOD:PUBLISH
X-ORIGINAL-URL:https://dev.workwithgoat.com/bnjc
X-WR-CALDESC:Events for BNJC
REFRESH-INTERVAL;VALUE=DURATION:PT1H
X-Robots-Tag:noindex
X-PUBLISHED-TTL:PT1H
BEGIN:VTIMEZONE
TZID:Europe/London
BEGIN:DAYLIGHT
TZOFFSETFROM:+0000
TZOFFSETTO:+0100
TZNAME:BST
DTSTART:20230326T010000
END:DAYLIGHT
BEGIN:STANDARD
TZOFFSETFROM:+0100
TZOFFSETTO:+0000
TZNAME:GMT
DTSTART:20231029T010000
END:STANDARD
BEGIN:DAYLIGHT
TZOFFSETFROM:+0000
TZOFFSETTO:+0100
TZNAME:BST
DTSTART:20240331T010000
END:DAYLIGHT
BEGIN:STANDARD
TZOFFSETFROM:+0100
TZOFFSETTO:+0000
TZNAME:GMT
DTSTART:20241027T010000
END:STANDARD
BEGIN:DAYLIGHT
TZOFFSETFROM:+0000
TZOFFSETTO:+0100
TZNAME:BST
DTSTART:20250330T010000
END:DAYLIGHT
BEGIN:STANDARD
TZOFFSETFROM:+0100
TZOFFSETTO:+0000
TZNAME:GMT
DTSTART:20251026T010000
END:STANDARD
END:VTIMEZONE
BEGIN:VEVENT
DTSTART;TZID=Europe/London:20240311T190000
DTEND;TZID=Europe/London:20240311T210000
DTSTAMP:20260420T082445
CREATED:20231220T130354Z
LAST-MODIFIED:20240219T152427Z
UID:230109-1710183600-1710190800@dev.workwithgoat.com
SUMMARY:Laughter Yoga
DESCRIPTION:Laughter yoga is a unique concept created by Indian medical Doctor Madan Kataria in 1995. It allows everyone to laugh\, smile\, and giggle for no reason\, without relying on jokes\, humour\, or comedy. This practice is excellent for our general wellbeing\, particularly our emotional and mental health. \nWe initiate laughter yoga in a group setting\, encouraging eye contact and childlike playfulness. Quickly\, it transforms into genuine\, contagious laughter. The name “laughter yoga” reflects its combination of easy\, fun laughter exercises\, breathing techniques\, and simple stretches suitable for everyone\, whether seated or standing. \nLaughter yoga is grounded in the scientific fact that the body cannot differentiate between real and fake laughter\, leading to the release of feel-good hormones such as dopamine\, serotonin\, and oxytocin. \nWe recommend wearing loose clothing\, bringing water\, and approaching the session with curiosity. \nAbout our instructor: \nAnn O’Keife loves to help others to live their lives to the fullest. Ann has over 30 years experience in personal growth. She is a caring\, down to earth and professional person centred Counsellor\, Healer\, Hypnotherapist\, PSYCH-K facilitator\, Rune reader and teacher\, Creative writing tutor and Laughter yoga teacher. \nAnn runs the Gratitude Group Sussex that organises Gratitude walks in and around Shoreham and Sussex. She is a UK Grandmother Beacon (part of the Grandmothers Net of Light organisation Worldwide) and holds monthly meditations and journeys for free. Ann is a Wise woman in the Community. \nAnn has appeared in National and Local media;- including Spirit and Destiny magazine\, the Sun newspaper\, Brighton Argus\, BBC Radio Sussex\, Juice FM and was voted one of the top happiest people in Brighton 2017(via Action for Happiness). \nFor more information about Ann and her work go to www.livinglifefully.net
URL:https://dev.workwithgoat.com/bnjc/event/laughter-yoga/
CATEGORIES:Health & Fitness,Social
ATTACH;FMTTYPE=image/png:https://dev.workwithgoat.com/bnjc/wp-content/uploads/2023/12/IMG_3941.png
END:VEVENT
END:VCALENDAR