BEGIN:VCALENDAR
VERSION:2.0
PRODID:-//BNJC - ECPv6.15.20//NONSGML v1.0//EN
CALSCALE:GREGORIAN
METHOD:PUBLISH
X-WR-CALNAME:BNJC
X-ORIGINAL-URL:https://dev.workwithgoat.com/bnjc
X-WR-CALDESC:Events for BNJC
REFRESH-INTERVAL;VALUE=DURATION:PT1H
X-Robots-Tag:noindex
X-PUBLISHED-TTL:PT1H
BEGIN:VTIMEZONE
TZID:Europe/London
BEGIN:DAYLIGHT
TZOFFSETFROM:+0000
TZOFFSETTO:+0100
TZNAME:BST
DTSTART:20230326T010000
END:DAYLIGHT
BEGIN:STANDARD
TZOFFSETFROM:+0100
TZOFFSETTO:+0000
TZNAME:GMT
DTSTART:20231029T010000
END:STANDARD
BEGIN:DAYLIGHT
TZOFFSETFROM:+0000
TZOFFSETTO:+0100
TZNAME:BST
DTSTART:20240331T010000
END:DAYLIGHT
BEGIN:STANDARD
TZOFFSETFROM:+0100
TZOFFSETTO:+0000
TZNAME:GMT
DTSTART:20241027T010000
END:STANDARD
BEGIN:DAYLIGHT
TZOFFSETFROM:+0000
TZOFFSETTO:+0100
TZNAME:BST
DTSTART:20250330T010000
END:DAYLIGHT
BEGIN:STANDARD
TZOFFSETFROM:+0100
TZOFFSETTO:+0000
TZNAME:GMT
DTSTART:20251026T010000
END:STANDARD
END:VTIMEZONE
BEGIN:VEVENT
DTSTART;TZID=Europe/London:20240306T190000
DTEND;TZID=Europe/London:20240306T210000
DTSTAMP:20260420T081412
CREATED:20231219T150649Z
LAST-MODIFIED:20240222T123742Z
UID:230008-1709751600-1709758800@dev.workwithgoat.com
SUMMARY:Board Game Night
DESCRIPTION:Get stuck into a monthly night of fun and strategy at our Board Game Evening! Join fellow enthusiasts\, experts and newcomers alike\, for an exciting array of classic and modern games. From intense battles of strategy to laughter-filled rounds of party games\, there’s something for everyone. \nBring your competitive spirit and make new friends in a cosy and casual atmosphere\, aided by our friendly facilitator.
URL:https://dev.workwithgoat.com/bnjc/event/board-game-night-3/
CATEGORIES:Social
ATTACH;FMTTYPE=image/png:https://dev.workwithgoat.com/bnjc/wp-content/uploads/2023/12/2.png
END:VEVENT
BEGIN:VEVENT
DTSTART;TZID=Europe/London:20240306T200000
DTEND;TZID=Europe/London:20240306T213000
DTSTAMP:20260420T081412
CREATED:20231220T120310Z
LAST-MODIFIED:20240306T115406Z
UID:230061-1709755200-1709760600@dev.workwithgoat.com
SUMMARY:Ulpan - FULLY BOOKED
DESCRIPTION:Begin a journey of learning Hebrew with ease with our Adult Ulpan course. Our tailored classes\, led by skilled native Hebrew speakers\, offer personalised attention in two distinct segments. \nFirst\, master the Hebrew alphabet\, vowels\, and basic reading skills. Then\, dive into conversational Hebrew\, preparing you for seamless communication during your next trip to Israel. For students of all ages\, from teenagers (year 8+) to adults. You’ll soon possess a comprehensive understanding of Hebrew\, equipped to read and engage in basic conversations across diverse topics.
URL:https://dev.workwithgoat.com/bnjc/event/ulpan-8/
CATEGORIES:Education
ATTACH;FMTTYPE=image/png:https://dev.workwithgoat.com/bnjc/wp-content/uploads/2023/12/1-1.png
END:VEVENT
END:VCALENDAR