BEGIN:VCALENDAR
VERSION:2.0
PRODID:-//BNJC - ECPv6.15.20//NONSGML v1.0//EN
CALSCALE:GREGORIAN
METHOD:PUBLISH
X-WR-CALNAME:BNJC
X-ORIGINAL-URL:https://dev.workwithgoat.com/bnjc
X-WR-CALDESC:Events for BNJC
REFRESH-INTERVAL;VALUE=DURATION:PT1H
X-Robots-Tag:noindex
X-PUBLISHED-TTL:PT1H
BEGIN:VTIMEZONE
TZID:Europe/London
BEGIN:DAYLIGHT
TZOFFSETFROM:+0000
TZOFFSETTO:+0100
TZNAME:BST
DTSTART:20230326T010000
END:DAYLIGHT
BEGIN:STANDARD
TZOFFSETFROM:+0100
TZOFFSETTO:+0000
TZNAME:GMT
DTSTART:20231029T010000
END:STANDARD
BEGIN:DAYLIGHT
TZOFFSETFROM:+0000
TZOFFSETTO:+0100
TZNAME:BST
DTSTART:20240331T010000
END:DAYLIGHT
BEGIN:STANDARD
TZOFFSETFROM:+0100
TZOFFSETTO:+0000
TZNAME:GMT
DTSTART:20241027T010000
END:STANDARD
BEGIN:DAYLIGHT
TZOFFSETFROM:+0000
TZOFFSETTO:+0100
TZNAME:BST
DTSTART:20250330T010000
END:DAYLIGHT
BEGIN:STANDARD
TZOFFSETFROM:+0100
TZOFFSETTO:+0000
TZNAME:GMT
DTSTART:20251026T010000
END:STANDARD
END:VTIMEZONE
BEGIN:VEVENT
DTSTART;TZID=Europe/London:20240305T180000
DTEND;TZID=Europe/London:20240305T193000
DTSTAMP:20260420T081339
CREATED:20240206T113010Z
LAST-MODIFIED:20240206T113010Z
UID:230888-1709661600-1709667000@dev.workwithgoat.com
SUMMARY:Shylock's Venice: The Remarkable History of Venice's Jews and the Ghetto
DESCRIPTION:Join Harry Freedman for a fascinating introduction to his new book\, Shylock’s Venice. Freedman is Britain’s leading author of popular works of Jewish culture and history. His publications include Leonard Cohen: The Mystical Roots of Genius\, Britain’s Jews\, and The Talmud: A Biography. \nAbout the Book: \nMillions of visitors flood to Venice every year. Yet many are unaware of its history – one of dramatic expansion but also of rapid decline. And essential to any history of Venice during its glory days is the story of its Jewish population. Venice gave the world the word ghetto. Astonishingly\, the ghetto prison turned out to be as remarkable a place as the city of Venice itself. \nWith sound scholarship and a narrator’s skill\, Harry Freedman tells the story of Venice’s Jews. From the founding of the ghetto in 1516\, to the capture of Venice by Napoleon in 1798\, he describes the remarkable cultural renaissance that took place in the Venice ghetto. Gates and walls notwithstanding\, for the first time in European history Jews and Christians mingled intellectually\, learned from each other\, shared ideas and entered modernity together. When it came to culture\, the ghetto walls were porous. \nNo history of Venice and its Jews can ignore the story of Shakespeare’s Shylock. The cultural and political revival in the Venice ghetto plays no part in the story of this fictional character. Who\, we wonder\, was Shylock? Would the people of Venice have recognized him and what did Shakespeare really think of him? Shakespeare’s ambivalent anti-Semitism reflects attitudes to Jews in Elizabethan England – but as Freedman demonstrates\, Shakespeare’s myth is wholly ignorant of the literary\, cultural and interfaith revival that Shylock would have experienced.
URL:https://dev.workwithgoat.com/bnjc/event/shylocks-venice-the-remarkable-history-of-venices-jews-and-the-ghetto/
CATEGORIES:Education,Literature
ATTACH;FMTTYPE=image/jpeg:https://dev.workwithgoat.com/bnjc/wp-content/uploads/2024/02/Shylocks-Venice-Cover.jpg
END:VEVENT
BEGIN:VEVENT
DTSTART;TZID=Europe/London:20240305T180000
DTEND;TZID=Europe/London:20240305T200000
DTSTAMP:20260420T081339
CREATED:20231219T113010Z
LAST-MODIFIED:20231219T113010Z
UID:229902-1709661600-1709668800@dev.workwithgoat.com
SUMMARY:JLGB Teen Social: Year 7 - 9
DESCRIPTION:12 – 14 year olds\, don’t miss out on the weekly JLGB social group at BNJC!  \nIt’s the ideal space for teens to connect with a vibrant Jewish community\, fostering friendships and developing essential leadership and life skills. From pickle-making\, to capture the flag\, we guarantee a blast each week. Join us for exciting events like summer camp\, trips to Poland and Israel\, day excursions\, and the prestigious Duke of Edinburgh award. Let’s create unforgettable memories together. \nNo need to sign up – come along for free.
URL:https://dev.workwithgoat.com/bnjc/event/jlgb-teen-social-year-7-9-9/
CATEGORIES:Children & Family,Social
ATTACH;FMTTYPE=image/jpeg:https://dev.workwithgoat.com/bnjc/wp-content/uploads/2023/12/51371328511_377ff31da4_k.jpg
END:VEVENT
END:VCALENDAR