BEGIN:VCALENDAR
VERSION:2.0
PRODID:-//BNJC - ECPv6.15.20//NONSGML v1.0//EN
CALSCALE:GREGORIAN
METHOD:PUBLISH
X-WR-CALNAME:BNJC
X-ORIGINAL-URL:https://dev.workwithgoat.com/bnjc
X-WR-CALDESC:Events for BNJC
REFRESH-INTERVAL;VALUE=DURATION:PT1H
X-Robots-Tag:noindex
X-PUBLISHED-TTL:PT1H
BEGIN:VTIMEZONE
TZID:Europe/London
BEGIN:DAYLIGHT
TZOFFSETFROM:+0000
TZOFFSETTO:+0100
TZNAME:BST
DTSTART:20230326T010000
END:DAYLIGHT
BEGIN:STANDARD
TZOFFSETFROM:+0100
TZOFFSETTO:+0000
TZNAME:GMT
DTSTART:20231029T010000
END:STANDARD
BEGIN:DAYLIGHT
TZOFFSETFROM:+0000
TZOFFSETTO:+0100
TZNAME:BST
DTSTART:20240331T010000
END:DAYLIGHT
BEGIN:STANDARD
TZOFFSETFROM:+0100
TZOFFSETTO:+0000
TZNAME:GMT
DTSTART:20241027T010000
END:STANDARD
BEGIN:DAYLIGHT
TZOFFSETFROM:+0000
TZOFFSETTO:+0100
TZNAME:BST
DTSTART:20250330T010000
END:DAYLIGHT
BEGIN:STANDARD
TZOFFSETFROM:+0100
TZOFFSETTO:+0000
TZNAME:GMT
DTSTART:20251026T010000
END:STANDARD
END:VTIMEZONE
BEGIN:VEVENT
DTSTART;TZID=Europe/London:20240227T180000
DTEND;TZID=Europe/London:20240227T200000
DTSTAMP:20260420T031201
CREATED:20231219T112943Z
LAST-MODIFIED:20231219T112943Z
UID:229900-1709056800-1709064000@dev.workwithgoat.com
SUMMARY:JLGB Teen Social: Year 7 - 9
DESCRIPTION:12 – 14 year olds\, don’t miss out on the weekly JLGB social group at BNJC!  \nIt’s the ideal space for teens to connect with a vibrant Jewish community\, fostering friendships and developing essential leadership and life skills. From pickle-making\, to capture the flag\, we guarantee a blast each week. Join us for exciting events like summer camp\, trips to Poland and Israel\, day excursions\, and the prestigious Duke of Edinburgh award. Let’s create unforgettable memories together. \nNo need to sign up – come along for free.
URL:https://dev.workwithgoat.com/bnjc/event/jlgb-teen-social-year-7-9-8/
CATEGORIES:Children & Family,Social
ATTACH;FMTTYPE=image/jpeg:https://dev.workwithgoat.com/bnjc/wp-content/uploads/2023/12/51371328511_377ff31da4_k.jpg
END:VEVENT
END:VCALENDAR