BEGIN:VCALENDAR
VERSION:2.0
PRODID:-//BNJC - ECPv6.15.20//NONSGML v1.0//EN
CALSCALE:GREGORIAN
METHOD:PUBLISH
X-WR-CALNAME:BNJC
X-ORIGINAL-URL:https://dev.workwithgoat.com/bnjc
X-WR-CALDESC:Events for BNJC
REFRESH-INTERVAL;VALUE=DURATION:PT1H
X-Robots-Tag:noindex
X-PUBLISHED-TTL:PT1H
BEGIN:VTIMEZONE
TZID:Europe/London
BEGIN:DAYLIGHT
TZOFFSETFROM:+0000
TZOFFSETTO:+0100
TZNAME:BST
DTSTART:20230326T010000
END:DAYLIGHT
BEGIN:STANDARD
TZOFFSETFROM:+0100
TZOFFSETTO:+0000
TZNAME:GMT
DTSTART:20231029T010000
END:STANDARD
BEGIN:DAYLIGHT
TZOFFSETFROM:+0000
TZOFFSETTO:+0100
TZNAME:BST
DTSTART:20240331T010000
END:DAYLIGHT
BEGIN:STANDARD
TZOFFSETFROM:+0100
TZOFFSETTO:+0000
TZNAME:GMT
DTSTART:20241027T010000
END:STANDARD
BEGIN:DAYLIGHT
TZOFFSETFROM:+0000
TZOFFSETTO:+0100
TZNAME:BST
DTSTART:20250330T010000
END:DAYLIGHT
BEGIN:STANDARD
TZOFFSETFROM:+0100
TZOFFSETTO:+0000
TZNAME:GMT
DTSTART:20251026T010000
END:STANDARD
END:VTIMEZONE
BEGIN:VEVENT
DTSTART;TZID=Europe/London:20240221T180000
DTEND;TZID=Europe/London:20240221T210000
DTSTAMP:20260420T031632
CREATED:20240206T111424Z
LAST-MODIFIED:20240215T180206Z
UID:230884-1708538400-1708549200@dev.workwithgoat.com
SUMMARY:Exhibition: Expelled! ‘Polenaktion’ 1938
DESCRIPTION:Exhibition and Curators’ Talk by Christine Meibeck\, Potsdam. \nA joint event by the University of Sussex (DAAD Chair of European and Jewish History and Culture and the Weidenfeld Institute of Jewish Studies at Sussex) and BNJC \nWelcome to the poignant exhibition\, Expelled! ‘Polenaktion’ (so-called “Polish Action”) 1938. Delve into the harrowing events surrounding the infamous ‘Polish Action’ of 1938\, which marked the first mass deportation of Jews from Germany. This exhibition sheds light on the plight of 17\,000 Jews with Polish passports who found themselves abruptly uprooted\, arrested\, and violently transported across the Polish border. \nAmidst the backdrop of escalating Nazi persecution against Eastern European Jews\, this expulsion unfolded as a shock to those who had called Germany home for generations. Stripped of their belongings and thrust into uncertainty\, they faced unimaginable challenges as they crossed into an unprepared town at the border. \nThrough compelling narratives and historical artifacts\, witness the humanitarian crisis that unfolded\, with hundreds injured and dozens perishing in their quest for refuge. Despite the overwhelming adversity\, solidarity emerged within the Polish-Jewish community and aid from organizations like the American Joint Distribution Committee provided a glimmer of hope amidst despair. \nThis exhibition marks the 85th anniversary of the expulsion.
URL:https://dev.workwithgoat.com/bnjc/event/exhibition-expelled-polenaktion-1938/
CATEGORIES:Education,Exhibition
ATTACH;FMTTYPE=image/jpeg:https://dev.workwithgoat.com/bnjc/wp-content/uploads/2024/02/Arrival-in-London-of-Jewish-children-who-had-been-expelled-to-Zbaszyn-February-1939-Courtesy-Bundesarchiv-2048x1489-1.jpg
END:VEVENT
BEGIN:VEVENT
DTSTART;TZID=Europe/London:20240221T200000
DTEND;TZID=Europe/London:20240221T213000
DTSTAMP:20260420T031632
CREATED:20231220T120123Z
LAST-MODIFIED:20231220T120123Z
UID:230055-1708545600-1708551000@dev.workwithgoat.com
SUMMARY:Ulpan
DESCRIPTION:Begin a journey of learning Hebrew with ease with our Adult Ulpan course. Our tailored classes\, led by skilled native Hebrew speakers\, offer personalised attention in two distinct segments.  \nFirst\, master the Hebrew alphabet\, vowels\, and basic reading skills. Then\, dive into conversational Hebrew\, preparing you for seamless communication during your next trip to Israel. For students of all ages\, from teenagers (year 8+) to adults. You’ll soon possess a comprehensive understanding of Hebrew\, equipped to read and engage in basic conversations across diverse topics.
URL:https://dev.workwithgoat.com/bnjc/event/ulpan-6/
CATEGORIES:Education
ATTACH;FMTTYPE=image/png:https://dev.workwithgoat.com/bnjc/wp-content/uploads/2023/12/1-1.png
END:VEVENT
END:VCALENDAR