BEGIN:VCALENDAR
VERSION:2.0
PRODID:-//BNJC - ECPv6.15.20//NONSGML v1.0//EN
CALSCALE:GREGORIAN
METHOD:PUBLISH
X-ORIGINAL-URL:https://dev.workwithgoat.com/bnjc
X-WR-CALDESC:Events for BNJC
REFRESH-INTERVAL;VALUE=DURATION:PT1H
X-Robots-Tag:noindex
X-PUBLISHED-TTL:PT1H
BEGIN:VTIMEZONE
TZID:Europe/London
BEGIN:DAYLIGHT
TZOFFSETFROM:+0000
TZOFFSETTO:+0100
TZNAME:BST
DTSTART:20230326T010000
END:DAYLIGHT
BEGIN:STANDARD
TZOFFSETFROM:+0100
TZOFFSETTO:+0000
TZNAME:GMT
DTSTART:20231029T010000
END:STANDARD
BEGIN:DAYLIGHT
TZOFFSETFROM:+0000
TZOFFSETTO:+0100
TZNAME:BST
DTSTART:20240331T010000
END:DAYLIGHT
BEGIN:STANDARD
TZOFFSETFROM:+0100
TZOFFSETTO:+0000
TZNAME:GMT
DTSTART:20241027T010000
END:STANDARD
BEGIN:DAYLIGHT
TZOFFSETFROM:+0000
TZOFFSETTO:+0100
TZNAME:BST
DTSTART:20250330T010000
END:DAYLIGHT
BEGIN:STANDARD
TZOFFSETFROM:+0100
TZOFFSETTO:+0000
TZNAME:GMT
DTSTART:20251026T010000
END:STANDARD
END:VTIMEZONE
BEGIN:VEVENT
DTSTART;TZID=Europe/London:20240204T090000
DTEND;TZID=Europe/London:20240204T103000
DTSTAMP:20260420T031713
CREATED:20231214T141926Z
LAST-MODIFIED:20231214T141926Z
UID:229725-1707037200-1707042600@dev.workwithgoat.com
SUMMARY:Children's Ulpan
DESCRIPTION:Explore the perfect blend of education and entertainment at our Children’s Ulpan! This weekly Hebrew lesson caters to all different skill levels – beginners will focus on the alphabet and basic vocabulary\, while advanced students enhance reading\, writing\, and vocabulary.  \nLearning is engaging with catchy tunes\, games\, prizes\, and cool projects. By year’s end\, these young learners will be Hebrew whizzes\, making their Bubbes and Zaydes proud. Join us on this educational journey where fun and linguistics go hand in hand.
URL:https://dev.workwithgoat.com/bnjc/event/childrens-ulpan-16/
CATEGORIES:Children & Family,Education
ATTACH;FMTTYPE=image/jpeg:https://dev.workwithgoat.com/bnjc/wp-content/uploads/2023/12/lavi-perchik-6d0LRYcuSuw-unsplash-1-scaled.jpg
END:VEVENT
BEGIN:VEVENT
DTSTART;TZID=Europe/London:20240204T140000
DTEND;TZID=Europe/London:20240204T160000
DTSTAMP:20260420T031713
CREATED:20231219T111819Z
LAST-MODIFIED:20231219T111819Z
UID:229867-1707055200-1707062400@dev.workwithgoat.com
SUMMARY:JLGB Teen Social: Year 5 - 6
DESCRIPTION:9 – 11 year olds\, don’t miss out on the weekly JLGB social group at BNJC!  \nIt’s the ideal space for teens to connect with a vibrant Jewish community\, fostering friendships and developing essential leadership and life skills. From pickle-making\, to capture the flag\, we guarantee a blast each week. Join us for exciting events like summer camp\, trips to Poland and Israel\, day excursions\, and the prestigious Duke of Edinburgh award. Let’s create unforgettable memories together. \nNo need to sign up – come along for free.
URL:https://dev.workwithgoat.com/bnjc/event/jlgb-teen-social-year-5-6-5/
CATEGORIES:Children & Family,Social
ATTACH;FMTTYPE=image/jpeg:https://dev.workwithgoat.com/bnjc/wp-content/uploads/2023/12/51371328511_377ff31da4_k.jpg
END:VEVENT
BEGIN:VEVENT
DTSTART;TZID=Europe/London:20240204T180000
DTEND;TZID=Europe/London:20240204T200000
DTSTAMP:20260420T031713
CREATED:20231219T113649Z
LAST-MODIFIED:20231219T113649Z
UID:229920-1707069600-1707076800@dev.workwithgoat.com
SUMMARY:JLGB Teen Social: Year 10+
DESCRIPTION:15 – 18 year olds\, don’t miss out on the weekly JLGB social group at BNJC!  \nIt’s the ideal space for teens to connect with a vibrant Jewish community\, fostering friendships and developing essential leadership and life skills. From pickle-making\, to capture the flag\, we guarantee a blast each week. Join us for exciting events like summer camp\, trips to Poland and Israel\, day excursions\, and the prestigious Duke of Edinburgh award. Let’s create unforgettable memories together. \nNo need to sign up – come along for free.
URL:https://dev.workwithgoat.com/bnjc/event/jlgb-teen-social-year-10-5/
CATEGORIES:Children & Family,Social
ATTACH;FMTTYPE=image/jpeg:https://dev.workwithgoat.com/bnjc/wp-content/uploads/2023/12/51371328511_377ff31da4_k.jpg
END:VEVENT
END:VCALENDAR