BEGIN:VCALENDAR
VERSION:2.0
PRODID:-//BNJC - ECPv6.15.20//NONSGML v1.0//EN
CALSCALE:GREGORIAN
METHOD:PUBLISH
X-ORIGINAL-URL:https://dev.workwithgoat.com/bnjc
X-WR-CALDESC:Events for BNJC
REFRESH-INTERVAL;VALUE=DURATION:PT1H
X-Robots-Tag:noindex
X-PUBLISHED-TTL:PT1H
BEGIN:VTIMEZONE
TZID:Europe/London
BEGIN:DAYLIGHT
TZOFFSETFROM:+0000
TZOFFSETTO:+0100
TZNAME:BST
DTSTART:20230326T010000
END:DAYLIGHT
BEGIN:STANDARD
TZOFFSETFROM:+0100
TZOFFSETTO:+0000
TZNAME:GMT
DTSTART:20231029T010000
END:STANDARD
BEGIN:DAYLIGHT
TZOFFSETFROM:+0000
TZOFFSETTO:+0100
TZNAME:BST
DTSTART:20240331T010000
END:DAYLIGHT
BEGIN:STANDARD
TZOFFSETFROM:+0100
TZOFFSETTO:+0000
TZNAME:GMT
DTSTART:20241027T010000
END:STANDARD
BEGIN:DAYLIGHT
TZOFFSETFROM:+0000
TZOFFSETTO:+0100
TZNAME:BST
DTSTART:20250330T010000
END:DAYLIGHT
BEGIN:STANDARD
TZOFFSETFROM:+0100
TZOFFSETTO:+0000
TZNAME:GMT
DTSTART:20251026T010000
END:STANDARD
END:VTIMEZONE
BEGIN:VEVENT
DTSTART;TZID=Europe/London:20240201T190000
DTEND;TZID=Europe/London:20240201T220000
DTSTAMP:20260420T085224
CREATED:20231220T123257Z
LAST-MODIFIED:20240201T183624Z
UID:230092-1706814000-1706824800@dev.workwithgoat.com
SUMMARY:Grease Sing-a-long
DESCRIPTION:Why this night is automatic\, systematic\, hydromatic…\nGet ready to shake up your night with our electrifying Sing-a-long Screening of Grease! \nTell me more\, tell me more!\nAt our Themed Movie Night\, we’re not just screening a movie; we’re creating 1950s experience with iconic decor\, hand jiving\, and cocktails that’ll have you saying\, “You’re the one that I want!” \nSo\, grease up your vocal cords\, grab your T-Birds and Pink Ladies\, and slip into your best retro attire as we transform the ordinary into the extraordinary.
URL:https://dev.workwithgoat.com/bnjc/event/grease-sing-a-long/
CATEGORIES:Entertainment,Film,Social
ATTACH;FMTTYPE=image/png:https://dev.workwithgoat.com/bnjc/wp-content/uploads/2023/12/1-2.png
END:VEVENT
END:VCALENDAR