BEGIN:VCALENDAR
VERSION:2.0
PRODID:-//BNJC - ECPv6.15.20//NONSGML v1.0//EN
CALSCALE:GREGORIAN
METHOD:PUBLISH
X-ORIGINAL-URL:https://dev.workwithgoat.com/bnjc
X-WR-CALDESC:Events for BNJC
REFRESH-INTERVAL;VALUE=DURATION:PT1H
X-Robots-Tag:noindex
X-PUBLISHED-TTL:PT1H
BEGIN:VTIMEZONE
TZID:Europe/London
BEGIN:DAYLIGHT
TZOFFSETFROM:+0000
TZOFFSETTO:+0100
TZNAME:BST
DTSTART:20220327T010000
END:DAYLIGHT
BEGIN:STANDARD
TZOFFSETFROM:+0100
TZOFFSETTO:+0000
TZNAME:GMT
DTSTART:20221030T010000
END:STANDARD
BEGIN:DAYLIGHT
TZOFFSETFROM:+0000
TZOFFSETTO:+0100
TZNAME:BST
DTSTART:20230326T010000
END:DAYLIGHT
BEGIN:STANDARD
TZOFFSETFROM:+0100
TZOFFSETTO:+0000
TZNAME:GMT
DTSTART:20231029T010000
END:STANDARD
BEGIN:DAYLIGHT
TZOFFSETFROM:+0000
TZOFFSETTO:+0100
TZNAME:BST
DTSTART:20240331T010000
END:DAYLIGHT
BEGIN:STANDARD
TZOFFSETFROM:+0100
TZOFFSETTO:+0000
TZNAME:GMT
DTSTART:20241027T010000
END:STANDARD
END:VTIMEZONE
BEGIN:VEVENT
DTSTART;TZID=Europe/London:20231213T200000
DTEND;TZID=Europe/London:20231213T213000
DTSTAMP:20260420T124531
CREATED:20231113T141020Z
LAST-MODIFIED:20231213T163253Z
UID:229026-1702497600-1702503000@dev.workwithgoat.com
SUMMARY:Rosh Chodesh Crafts Night - for women
DESCRIPTION:Join us a for women’s-only celebration of the new moon at BNJC!\n\n\nJoin our women’s-only crafting night – come and use your creative mind as we celebrate the new moon in the month of Tevet.
URL:https://dev.workwithgoat.com/bnjc/event/rosh-chodesh-crafts-night-for-women/
CATEGORIES:Arts & Crafts,Social
ATTACH;FMTTYPE=image/jpeg:https://dev.workwithgoat.com/bnjc/wp-content/uploads/2023/11/fc93b7c8a130e821813ff769a5c032bb-bcXz4X.tmp_.jpg
END:VEVENT
END:VCALENDAR