BEGIN:VCALENDAR
VERSION:2.0
PRODID:-//BNJC - ECPv6.15.20//NONSGML v1.0//EN
CALSCALE:GREGORIAN
METHOD:PUBLISH
X-WR-CALNAME:BNJC
X-ORIGINAL-URL:https://dev.workwithgoat.com/bnjc
X-WR-CALDESC:Events for BNJC
REFRESH-INTERVAL;VALUE=DURATION:PT1H
X-Robots-Tag:noindex
X-PUBLISHED-TTL:PT1H
BEGIN:VTIMEZONE
TZID:Europe/London
BEGIN:DAYLIGHT
TZOFFSETFROM:+0000
TZOFFSETTO:+0100
TZNAME:BST
DTSTART:20220327T010000
END:DAYLIGHT
BEGIN:STANDARD
TZOFFSETFROM:+0100
TZOFFSETTO:+0000
TZNAME:GMT
DTSTART:20221030T010000
END:STANDARD
BEGIN:DAYLIGHT
TZOFFSETFROM:+0000
TZOFFSETTO:+0100
TZNAME:BST
DTSTART:20230326T010000
END:DAYLIGHT
BEGIN:STANDARD
TZOFFSETFROM:+0100
TZOFFSETTO:+0000
TZNAME:GMT
DTSTART:20231029T010000
END:STANDARD
BEGIN:DAYLIGHT
TZOFFSETFROM:+0000
TZOFFSETTO:+0100
TZNAME:BST
DTSTART:20240331T010000
END:DAYLIGHT
BEGIN:STANDARD
TZOFFSETFROM:+0100
TZOFFSETTO:+0000
TZNAME:GMT
DTSTART:20241027T010000
END:STANDARD
END:VTIMEZONE
BEGIN:VEVENT
DTSTART;TZID=Europe/London:20231210T090000
DTEND;TZID=Europe/London:20231210T103000
DTSTAMP:20260422T200322
CREATED:20231005T130330Z
LAST-MODIFIED:20231113T142506Z
UID:228579-1702198800-1702204200@dev.workwithgoat.com
SUMMARY:Children's Ulpan
DESCRIPTION:Fun and educational Hebrew lessons for ages 5-10!\n\n\nCome and join us for fun and experiential Hebrew classes at BNJC! Perfect for any 5-10 year old\, from experienced Hebrew speakers to those who have never tried a Hebrew class before.  \nY﻿our children will be taught: \n\nThe Hebrew alphabet \nB﻿asic conversation\nN﻿umbers and colours \nS﻿ongs about the chaggim \nM﻿uch more!
URL:https://dev.workwithgoat.com/bnjc/event/childrens-ulpan-9/
ATTACH;FMTTYPE=image/jpeg:https://dev.workwithgoat.com/bnjc/wp-content/uploads/2023/10/8d19fdd76a83fc822ec0d42c9d9f02cd-7X7wdV.tmp_.jpg
END:VEVENT
BEGIN:VEVENT
DTSTART;TZID=Europe/London:20231210T170000
DTEND;TZID=Europe/London:20231210T190000
DTSTAMP:20260422T200322
CREATED:20231113T141014Z
LAST-MODIFIED:20231113T142507Z
UID:229020-1702227600-1702234800@dev.workwithgoat.com
SUMMARY:Teens Chanukah Celebration
DESCRIPTION:Join us for a Chanukah celebration for 12-18 year olds!\n\n\nA fabulous woodworking session where you can create your own personalised wooden chanukiah in celebration of the festival of lights.  \nPerfect for 12-18 year olds – groups will be divided by age.
URL:https://dev.workwithgoat.com/bnjc/event/teens-hannukah-celebration/
LOCATION:BNJC (Brighton & Hove Jewish Community)\, 29-31 New Church Road\, Brighton and Hove\, England\, BN3 4AD\, United Kingdom
ATTACH;FMTTYPE=image/jpeg:https://dev.workwithgoat.com/bnjc/wp-content/uploads/2023/11/8e34af6346979dbef2caaf7dc321f1c2-F0R55p.tmp_.jpg
END:VEVENT
END:VCALENDAR