BEGIN:VCALENDAR
VERSION:2.0
PRODID:-//BNJC - ECPv6.15.20//NONSGML v1.0//EN
CALSCALE:GREGORIAN
METHOD:PUBLISH
X-ORIGINAL-URL:https://dev.workwithgoat.com/bnjc
X-WR-CALDESC:Events for BNJC
REFRESH-INTERVAL;VALUE=DURATION:PT1H
X-Robots-Tag:noindex
X-PUBLISHED-TTL:PT1H
BEGIN:VTIMEZONE
TZID:Europe/London
BEGIN:DAYLIGHT
TZOFFSETFROM:+0000
TZOFFSETTO:+0100
TZNAME:BST
DTSTART:20220327T010000
END:DAYLIGHT
BEGIN:STANDARD
TZOFFSETFROM:+0100
TZOFFSETTO:+0000
TZNAME:GMT
DTSTART:20221030T010000
END:STANDARD
BEGIN:DAYLIGHT
TZOFFSETFROM:+0000
TZOFFSETTO:+0100
TZNAME:BST
DTSTART:20230326T010000
END:DAYLIGHT
BEGIN:STANDARD
TZOFFSETFROM:+0100
TZOFFSETTO:+0000
TZNAME:GMT
DTSTART:20231029T010000
END:STANDARD
BEGIN:DAYLIGHT
TZOFFSETFROM:+0000
TZOFFSETTO:+0100
TZNAME:BST
DTSTART:20240331T010000
END:DAYLIGHT
BEGIN:STANDARD
TZOFFSETFROM:+0100
TZOFFSETTO:+0000
TZNAME:GMT
DTSTART:20241027T010000
END:STANDARD
END:VTIMEZONE
BEGIN:VEVENT
DTSTART;TZID=Europe/London:20231109T174500
DTEND;TZID=Europe/London:20231109T204500
DTSTAMP:20260420T171344
CREATED:20231107T165927Z
LAST-MODIFIED:20231109T155706Z
UID:228887-1699551900-1699562700@dev.workwithgoat.com
SUMMARY:Football Screening: Brighton vs. Ajax
DESCRIPTION:Come along to BNJC on 9 November as Brighton & Hove Albion continue their historic European football journey away to Ajax Amsterdam!\n\n\nWe’re showing full coverage of the game on the big screen with kick-off at 5:45pm.\n \nWhy not enjoy a matchday experience with our ‘burger and a beer’ (or soft drink) offer for only £15?\n This will be served to you at half-time so you can continue to enjoy the analysis on the big screen!\n \nThe bar will be open for drinks pre and post-game – register now.
URL:https://dev.workwithgoat.com/bnjc/event/brighton-v-ajax/
ATTACH;FMTTYPE=image/jpeg:https://dev.workwithgoat.com/bnjc/wp-content/uploads/2023/11/3fd940f415107d689fe67442d6944928-lxEmsS.tmp_.jpg
END:VEVENT
END:VCALENDAR